Workbook
Name AllSheetsList: OFFSET(LookUps!$T$6,0,0,LookUps!$O$6)
Name Ans_Check: LookUps!$Z$7
Name Ans_No: LookUps!$C$7
Name Ans_OK: LookUps!$Z$6
Name Ans_Yes: LookUps!$C$6
Name Cat1Check1Row: 'Input considerations'!#REF!
Name Cat1Check1Row: 'Output checklist'!$38:$38
Name Cat1Check2Row: 'Input considerations'!#REF!
Name Cat1Check2Row: 'Output checklist'!$56:$56
Name Cat1CttERow: TotalEconomicCostsofVAWG!$22:$22
Name Cat1DashboardRow: Dashboard!$17:$17
Name Cat1DetailedSummaryRows: DetailedSummary!$74:$77
Name Cat2Check1Row: 'Input considerations'!#REF!
Name Cat2Check1Row: 'Output checklist'!$39:$39
Name Cat2Check2Row: 'Input considerations'!#REF!
Name Cat2Check2Row: 'Output checklist'!$57:$57
Name Cat2CttERow: TotalEconomicCostsofVAWG!$23:$23
Name Cat2DashboardRow: Dashboard!$18:$18
Name Cat2DetailedSummaryRows: DetailedSummary!$78:$81
Name Cat3Check1Row: 'Input considerations'!#REF!
Name Cat3Check1Row: 'Output checklist'!$40:$40
Name Cat3Check2Row: 'Input considerations'!#REF!
Name Cat3Check2Row: 'Output checklist'!$58:$58
Name Cat3CttERow: TotalEconomicCostsofVAWG!$24:$24
Name Cat3DashboardRow: Dashboard!$19:$19
Name Cat3DetailedSummaryRows: DetailedSummary!$82:$85
Name Cat4Check1Row: 'Input considerations'!#REF!
Name Cat4Check1Row: 'Output checklist'!$41:$41
Name Cat4Check2Row: 'Input considerations'!#REF!
Name Cat4Check2Row: 'Output checklist'!$59:$59
Name Cat4CttERow: TotalEconomicCostsofVAWG!$25:$25
Name Cat4DashboardRow: Dashboard!$20:$20
Name Cat4DetailedSummaryRows: DetailedSummary!$86:$89
Name Cat5Check1Row: 'Input considerations'!#REF!
Name Cat5Check1Row: 'Output checklist'!$42:$42
Name Cat5Check2Row: 'Input considerations'!#REF!
Name Cat5Check2Row: 'Output checklist'!$60:$60
Name Cat5CttERow: TotalEconomicCostsofVAWG!$26:$26
Name Cat5DashboardRow: Dashboard!$21:$21
Name Cat5DetailedSummaryRows: DetailedSummary!$90:$93
Name Cat6Check1Row: 'Input considerations'!#REF!
Name Cat6Check1Row: 'Output checklist'!$43:$43
Name Cat6Check2Row: 'Input considerations'!#REF!
Name Cat6Check2Row: 'Output checklist'!$61:$61
Name Cat6CttERow: TotalEconomicCostsofVAWG!$27:$27
Name Cat6DashboardRow: Dashboard!$22:$22
Name Cat6DetailedSummaryRows: DetailedSummary!$94:$97
Name CostCategories: LookUps!$F$6:$F$13
Name CostCatList: OFFSET(LookUps!$K$6,0,0,LookUps!$E$6)
Name EducationalServices: LookUps!$F$11
Name GDPConverted: 'A. ReferenceFigures'!$D$13
Name GDPLocalCurrency: 'A. ReferenceFigures'!$D$12
Name I_CurrencySymbol: 'A. ReferenceFigures'!$D$9
Name I_ExchangeRate: 'A. ReferenceFigures'!$D$10
Name LawEnforcementJudiciary: LookUps!$F$8
Name LC_DD_HomeSheetSelection: LookUps!$M$6
Name LC_DD_PageNav: LookUps!$V$6
Name ListsOfTypes: #REF!
Name NewCat1: 'B. CostCategories'!$D$69
Name NewCat1CttEIndicator: TotalEconomicCostsofVAWG!$C$22

Sheet Home
D6: Welcome to the EconVAWG tool. This is a toolkit that facilitates the estimation of the cost of violence against women and girls.
D8: This is a customised toolkit that can be adapted to enter data for the most relevant cost categories. More information on how to gather data and how to use this tool can be found in the Facilitator's Guide availabe at:
D9: https://thecommonwealth.org/economic-costs-violence-women-girls
D10: The navigation panel below can be used to move between sheets. Click on the appropriate button to take you to the sheet named on the button. To be able to use the tool, please ensure you enable macros if you have not already done so when opening the tool. To do this, click 'Enable editing' and then 'Enable content.' This usually appears at the top of your spreadsheet but this can vary depending on your version.
D13: Navigation
D14: Guidance and checks | L14: View outputs
D23: Input data
D28: Select a cost category sheet from the list to be taken there directly: (This dropdown also appears on every sheet within the tool to help with navigation)

Sheet Guidance
C2: Guidance
C5: This guidance sets out some core principles regarding the design of the tool and then in the section below presents a step-by-step guide to populate the tool.
C7: Overview
C11: The different sheets within the tool are colour-coded to ease navigation and understanding of where to enter data and applicable information. The colours are shown below:
E13: Output sheet
E15: Input
E17: Navigation and information
E19: Optional
C21: Similarly, within each of the sheets, the same colour coding indicates where data can be entered. Data in the 'optional' cells will not be used in the calculations but is provided in order to add an audit trail or undertake calculations within the tool. It is not essential to enter data on every yellow tab or in every yellow cell.
C22: Each sheet also includes navigation tools at the top to move to a specific sheet or to return to the Home sheet.
C23: Step-by-step guide
C26: The core steps below provide detail of how to use the tool effectively. However, the Facilitator's Guide provides more information: 1. Complete the A. ReferenceFigures' sheet (yellow tab). This sheet is used to enter key data for calculations and to enable the tool to be tailored to the appropriate currency. 2. Complete the 'B. CostCategories sheet (yellow tab). This sets up the other sheets within the tool so they are tailored to the cost categories and cost items that will be modelled. This sheet can be modified during the process of completing the tool. However, it should be noted that changes to this sheet will change the table heading on the corresponding cost category sheet. Some 'Cost items' have been included already as potential cost types but it is not essential to use all of these, and under each cost item you can also add your own cost items. There is also space within this sheet to add additional cost categories and cost items. 3. Complete each cost category sheet (yellow tab) that applies. On each cost category sheet (e.g. Personal income, Healthcare, Law enforcement and judiciary, etc.), there is a table for each 'cost item.' The cost items are populated by the 'B. CostCategories' sheet. Within each cost item, cost components can be added. The 'Example' sheet (blue tab) provides more information on completing this sheet, showing all the elements that are mentioned in relation to the cost categories. There is also additional information on the 'Input considerations' sheet (blue tab), which can help support you with the data entry. Note that, on each cost category sheet, all yellow cells in a row need to be populated for the calculations to work. This may need to be a '1' where there is no specific value or multiple. At the bottom of each cost category sheet there is a 'working area.' This can be used for calculations and notes. Data from here will not directly feed into the rest of the calculations unless you link it directly but can be used for audit trail and reference information, etc. It should be noted that there is some variation for the sheets for Healthcare and Education. For Healthcare, there is an additional opportunity to add out-of-pocket expenses associated with private healthcare. For education, costs are built up as a proportion of the overall education budget. 4. Enter data on total economy-wide cost in the 'High-level summary' sheet (green tab). The data for this should be drawn from an input-output model (IOM) or a social accounting matrix (SAM) model. 5. Check for errors on the 'Output checklist' (blue tab). Once you have completed data entry, you should review the 'Output checklist' sheet to ensure there is no missing information before reviewing the summary data. 6. View summary outputs (green tabs)

Sheet Input considerations
C2: Input checklist
C5: This sheet suggests potential 'reasonable' guidelines for cell values against different cost categories and cost components. There may be reasonable exceptions to these but it is hoped these will provide support in considering likely values. Please review your input data against these suggested ratios.
C7: 1. General considerations:
C8: No negative values; the values must be 0 or positive
C9: Number of victims or services recipients (persons) may be based on female population share (15 – 64 years) times the GBV prevalence rate (%)
C10: Unit costs may be based on per capita GDP (%)
C11: Proportional and total costs may be based on GDP (%)
C12: Female employment data may be based on labour market information (% of total labour force)
C15: Specific:
C17: 2. Number of victims/services recipients (% of total population) | D17: Female 15 – 64/population (%) | E17: GBV rate (%) | F17: Checking factor (%) | G17: Checking factor % of Population | H17: Checking factor % of Population
C18: Physical case | D18: 0.45 | E18: 0.25 | F18: =D18*E18 -> 0.1125 | G18: 11 to 15% | H18: 11 to 15%
C19: Sexual case | D19: 0.45 | E19: 0.15 | F19: =D19*E19 -> 0.0675 | G19: 5 to 10 % | H19: 5 to 10%
C21: 3. Unit cost health services (% of per capita GDP) | D21: Per event
C22: Medical wards | D22: 1 to 2%
C23: Surgical wards | D23: 1 to 2%
C24: Maternity wards | D24: 1 to 2%
C25: Paediatrics | D25: 1 to 2%
C26: NICU | D26: 1 to 2%
C27: Ward ICU | D27: 1 to 2%
C28: Accident and Emergency | D28: 1 to 2%
C29: Ambulance | D29: 1 to 2%
C30: Special clinic | D30: 1 to 2%
C31: CT Scanner | D31: 1 to 3%
C32: Echography | D32: 1 to 2%
... C50: 5. Employment | D50: See row label for detail
C51: Female labour force participation (% of population) | D51: 0.8
C52: Female employment rate (% of female labour force) | D52: 0.6
C54: 6. Education | D54: % of total learning time
C55: Learning time lost | D55: 0.25
C57: 7. Personal unit cost (% of per capita GDP) | D57: Per event
C58: Personal expenses for transportation | D58: 1 to 7%
C59: Loss of personal property | D59: 1 to 7%
C60: Loss of personal income | D60: 1 to 7%
C61: Personal expenses for ambulance call | D61: 1 to 7%
C62: Personal expenses for diagnostic and medicine | D62: 1 to 7%
C63: Personal expenses for inpatient services | D63: 1 to 7%
C64: Personal expenses for legal services | D64: 1 to 7%
C65: Cost of property damage | D65: 1 to 7%
C66: Personal expenses incurred | D66: 1 to 7%

Sheet Output checklist
C2: Output checklist
C5: This section provides two types of checks. The first provides a checklist that core data entry has been completed. The second highlights where there may be unexpected relationships between variables and where, although data may have been entered, it should be checked for accuracy.
C7: Data entry checklist
C10: This section is used to provide an opportunity to check that you have populated key components of the tool.
C12: Check type | D12: Completed | E12: See sheet
C13: Reference data completed OK? Note that missing data here will mean that some calculations in the tool will not work. You will see a 'DIV0#' error in other sheets if you have not added in data here. | D13: =IF(COUNTA('A. ReferenceFigures'!D9,'A. ReferenceFigures'!D10,'A. ReferenceFigures'!D13)=3,Ans_Yes,Ans_No) -> No | E13: Go to reference sheet
C22: Validation checklist
C25: The table below shows where data has been entered for the given cost category. It is not essential that data is entered in for all cost categories, but this should be checked to make sure the tool is showing as calculated for every cost category you expect.
D28: Check areas data has been entered for
C29: Cost category | D29: =Dashboard!$G$7 -> Typical case | E29: =Dashboard!$L$7 -> Full coverage case
C30: =Dashboard!$D9 -> Personal income | D30: =IF(Dashboard!$H9="","No data",IF(Dashboard!$H9>0,"Calculated","No data")) -> No data | E30: =IF(Dashboard!$L9="","No data",IF(Dashboard!$L9>0,"Calculated","No data")) -> No data
C31: =Dashboard!$D10 -> Healthcare | D31: =IF(Dashboard!$H10="","No data",IF(Dashboard!$H10>0,"Calculated","No data")) -> No data | E31: =IF(Dashboard!$L10="","No data",IF(Dashboard!$L10>0,"Calculated","No data")) -> No data
C32: =Dashboard!$D11 -> Law enforcement and judiciary | D32: =IF(Dashboard!$H11="","No data",IF(Dashboard!$H11>0,"Calculated","No data")) -> No data | E32: =IF(Dashboard!$L11="","No data",IF(Dashboard!$L11>0,"Calculated","No data")) -> No data
C33: =Dashboard!$D12 -> Social services | D33: =IF(Dashboard!$H12="","No data",IF(Dashboard!$H12>0,"Calculated","No data")) -> No data | E33: =IF(Dashboard!$L12="","No data",IF(Dashboard!$L12>0,"Calculated","No data")) -> No data
C34: =Dashboard!$D13 -> Specialised Services | D34: =IF(Dashboard!$H13="","No data",IF(Dashboard!$H13>0,"Calculated","No data")) -> No data | E34: =IF(Dashboard!$L13="","No data",IF(Dashboard!$L13>0,"Calculated","No data")) -> No data
C35: =Dashboard!$D14 -> Education services | D35: =IF(Dashboard!$H14="","No data",IF(Dashboard!$H14>0,"Calculated","No data")) -> No data | E35: =IF(Dashboard!$L14="","No data",IF(Dashboard!$L14>0,"Calculated","No data")) -> No data
C36: =Dashboard!$D15 -> Personal expenses | D36: =IF(Dashboard!$H15="","No data",IF(Dashboard!$H15>0,"Calculated","No data")) -> No data | E36: =IF(Dashboard!$L15="","No data",IF(Dashboard!$L15>0,"Calculated","No data")) -> No data
C37: =Dashboard!$D16 -> Other | D37: =IF(Dashboard!$H16="","No data",IF(Dashboard!$H16>0,"Calculated","No data")) -> No data | E37: =IF(Dashboard!$L16="","No data",IF(Dashboard!$L16>0,"Calculated","No data")) -> No data
C38: =Dashboard!$D17 -> 0 | D38: =IF(Dashboard!$H17="","No data",IF(Dashboard!$H17>0,"Calculated","No data")) -> No data | E38: =IF(Dashboard!$L17="","No data",IF(Dashboard!$L17>0,"Calculated","No data")) -> No data
C39: =Dashboard!$D18 -> 0 | D39: =IF(Dashboard!$H18="","No data",IF(Dashboard!$H18>0,"Calculated","No data")) -> No data | E39: =IF(Dashboard!$L18="","No data",IF(Dashboard!$L18>0,"Calculated","No data")) -> No data
C40: =Dashboard!$D19 -> 0 | D40: =IF(Dashboard!$H19="","No data",IF(Dashboard!$H19>0,"Calculated","No data")) -> No data | E40: =IF(Dashboard!$L19="","No data",IF(Dashboard!$L19>0,"Calculated","No data")) -> No data
C41: =Dashboard!$D20 -> 0 | D41: =IF(Dashboard!$H20="","No data",IF(Dashboard!$H20>0,"Calculated","No data")) -> No data | E41: =IF(Dashboard!$L20="","No data",IF(Dashboard!$L20>0,"Calculated","No data")) -> No data
... C43: =Dashboard!$D22 -> 0 | D43: =IF(Dashboard!$H22="","No data",IF(Dashboard!$H22>0,"Calculated","No data")) -> No data | E43: =IF(Dashboard!$L22="","No data",IF(Dashboard!$L22>0,"Calculated","No data")) -> No data
C45: Check type | D45: Check status | E45: Notes
C46: Cost percentage of GDP | D46: =IF(GDPLocalCurrency="","No GDP data",IF(HLSummary!F15>10%,Ans_Check,Ans_OK)) -> No GDP data | E46: =IF(D46=Ans_Check,"The full coverage cost compared to GDP is more than 10%. Please check for possible errors","")
C47: Full cost should be higher than the typical case cost:
C48: =LookUps!F6 -> Personal income | D48: =IF(C48=0,Ans_OK,IF(Dashboard!M9>=Dashboard!H9,Ans_OK,Ans_Check)) -> OK | E48: =IF(D48=Ans_OK,"","Check the data entry for "& C48&" as the typical case costs more than full coverage")
C49: =LookUps!F7 -> Healthcare | D49: =IF(C49=0,Ans_OK,IF(Dashboard!M10>=Dashboard!H10,Ans_OK,Ans_Check)) -> OK | E49: =IF(D49=Ans_OK,"","Check the data entry for "& C49&" as the typical case costs more than full coverage")
C50: =LookUps!F8 -> Law enforcement and judiciary | D50: =IF(C50=0,Ans_OK,IF(Dashboard!M11>=Dashboard!H11,Ans_OK,Ans_Check)) -> OK | E50: =IF(D50=Ans_OK,"","Check the data entry for "& C50&" as the typical case costs more than full coverage")
C51: =LookUps!F9 -> Social services | D51: =IF(C51=0,Ans_OK,IF(Dashboard!M12>=Dashboard!H12,Ans_OK,Ans_Check)) -> OK | E51: =IF(D51=Ans_OK,"","Check the data entry for "& C51&" as the typical case costs more than full coverage")
C52: =LookUps!F10 -> Specialised Services | D52: =IF(C52=0,Ans_OK,IF(Dashboard!M13>=Dashboard!H13,Ans_OK,Ans_Check)) -> OK | E52: =IF(D52=Ans_OK,"","Check the data entry for "& C52&" as the typical case costs more than full coverage")
C53: =LookUps!F11 -> Education services | D53: =IF(C53=0,Ans_OK,IF(Dashboard!M14>=Dashboard!H14,Ans_OK,Ans_Check)) -> OK | E53: =IF(D53=Ans_OK,"","Check the data entry for "& C53&" as the typical case costs more than full coverage")
C54: =LookUps!F12 -> Personal expenses | D54: =IF(C54=0,Ans_OK,IF(Dashboard!M15>=Dashboard!H15,Ans_OK,Ans_Check)) -> OK | E54: =IF(D54=Ans_OK,"","Check the data entry for "& C54&" as the typical case costs more than full coverage")
C55: =LookUps!F13 -> Other | D55: =IF(C55=0,Ans_OK,IF(Dashboard!M16>=Dashboard!H16,Ans_OK,Ans_Check)) -> OK | E55: =IF(D55=Ans_OK,"","Check the data entry for "& C55&" as the typical case costs more than full coverage")
C56: =LookUps!F14 -> 0 | D56: =IF(C56=0,Ans_OK,IF(Dashboard!M17>Dashboard!H17,Ans_OK,Ans_Check)) -> OK | E56: =IF(D56=Ans_OK,"","Check the data entry for "& C56&" as the typical case costs more than full coverage")
C57: =LookUps!F15 -> 0 | D57: =IF(C57=0,Ans_OK,IF(Dashboard!M18>Dashboard!H18,Ans_OK,Ans_Check)) -> OK | E57: =IF(D57=Ans_OK,"","Check the data entry for "& C57&" as the typical case costs more than full coverage")
C58: =LookUps!F16 -> 0 | D58: =IF(C58=0,Ans_OK,IF(Dashboard!M19>Dashboard!H19,Ans_OK,Ans_Check)) -> OK | E58: =IF(D58=Ans_OK,"","Check the data entry for "& C58&" as the typical case costs more than full coverage")
C59: =LookUps!F17 -> 0 | D59: =IF(C59=0,Ans_OK,IF(Dashboard!M20>Dashboard!H20,Ans_OK,Ans_Check)) -> OK | E59: =IF(D59=Ans_OK,"","Check the data entry for "& C59&" as the typical case costs more than full coverage")
C60: =LookUps!F18 -> 0 | D60: =IF(C60=0,Ans_OK,IF(Dashboard!M21>Dashboard!H21,Ans_OK,Ans_Check)) -> OK | E60: =IF(D60=Ans_OK,"","Check the data entry for "& C60&" as the typical case costs more than full coverage")
C61: =LookUps!F19 -> 0 | D61: =IF(C61=0,Ans_OK,IF(Dashboard!M22>Dashboard!H22,Ans_OK,Ans_Check)) -> OK | E61: =IF(D61=Ans_OK,"","Check the data entry for "& C61&" as the typical case costs more than full coverage")

Sheet DetailedSummary
E2: Detailed summary
J5: General | K5: =COLUMN('1.Personal income'!I8) -> 9 | L5: =COLUMN('1.Personal income'!J8) -> 10 | M5: =COLUMN('1.Personal income'!N8) -> 14 | N5: =COLUMN('1.Personal income'!O8) -> 15
J6: Education | K6: =COLUMN('6.Education services'!I10) -> 9 | L6: =COLUMN('6.Education services'!J10) -> 10 | M6: =COLUMN('6.Education services'!M10) -> 13 | N6: =COLUMN('6.Education services'!N10) -> 14
E7: This sheet provides a summary of the costs by cost category.
K9: Typical case | M9: Full coverage case
D10: Flag to include in HL summary. Set to zero if hidden | E10: Cost category | F10: Cost category | G10: Sheet name | I10: Row | J10: Cost item | K10: =I_CurrencySymbol -> 0 | L10: $ | M10: =I_CurrencySymbol -> 0 | N10: $
E11: =IF('B. CostCategories'!D15="","",'B. CostCategories'!D15) -> Personal income | F11: =IF(E11="",F10,E11) -> Personal income | G11: =INDEX(LookUps!P:P,MATCH(F11,LookUps!Q:Q,0)) -> 1.Personal income | H11: =INDEX('B. CostCategories'!F:F,MATCH(F11&J11,'B. CostCategories'!H:H,0)) -> R1 | I11: =MATCH(H11,INDIRECT(SUBSTITUTE(ADDRESS(1,3,4,,$G11),1,"",IF(LEFT(G11,1)="1","2","1"))&":"&SUBSTITUTE(ADDRESS(1,3,4),1,"")),0)+11 -> 19 | J11: =IF('B. CostCategories'!E15="","",'B. CostCategories'!E15) -> Irreversible (deaths) | K11: {=IF(ISERROR($I11),"",INDIRECT(ADDRESS($I11,K$5,4,,$G11)))} -> 0 | L11: {=IF(I_ExchangeRate="","",IF(ISERROR($I11),"",INDIRECT(ADDRESS($I11,L$5,4,,$G11))))} | M11: {=IF(ISERROR($I11),"",INDIRECT(ADDRESS($I11,M$5,4,,$G11)))} -> 0 | N11: {=IF(I_ExchangeRate="","",IF(ISERROR($I11),"",INDIRECT(ADDRESS($I11,N$5,4,,$G11))))}
F12: =IF(E12="",F11,E12) -> Personal income | G12: =INDEX(LookUps!P:P,MATCH(F12,LookUps!Q:Q,0)) -> 1.Personal income | H12: =INDEX('B. CostCategories'!F:F,MATCH(F12&J12,'B. CostCategories'!H:H,0)) -> R2 | I12: =MATCH(H12,INDIRECT(SUBSTITUTE(ADDRESS(1,3,4,,$G12),1,"",IF(LEFT(G12,1)="1","2","1"))&":"&SUBSTITUTE(ADDRESS(1,3,4),1,"")),0)+11 -> 33 | J12: =IF('B. CostCategories'!E16="","",'B. CostCategories'!E16) -> Reversible - Employment Income loss | K12: {=IF(ISERROR($I12),"",INDIRECT(ADDRESS($I12,K$5,4,,$G12)))} -> 0 | L12: {=IF(I_ExchangeRate="","",IF(ISERROR($I12),"",INDIRECT(ADDRESS($I12,L$5,4,,$G12))))} | M12: {=IF(ISERROR($I12),"",INDIRECT(ADDRESS($I12,M$5,4,,$G12)))} -> 0 | N12: {=IF(I_ExchangeRate="","",IF(ISERROR($I12),"",INDIRECT(ADDRESS($I12,N$5,4,,$G12))))}
F13: =IF(E13="",F12,E13) -> Personal income | G13: =INDEX(LookUps!P:P,MATCH(F13,LookUps!Q:Q,0)) -> 1.Personal income | H13: =INDEX('B. CostCategories'!F:F,MATCH(F13&J13,'B. CostCategories'!H:H,0)) -> R3 | I13: =MATCH(H13,INDIRECT(SUBSTITUTE(ADDRESS(1,3,4,,$G13),1,"",IF(LEFT(G13,1)="1","2","1"))&":"&SUBSTITUTE(ADDRESS(1,3,4),1,"")),0)+11 -> 47 | J13: =IF('B. CostCategories'!E17="","",'B. CostCategories'!E17) -> Reversible - Missing value of lost household work | K13: {=IF(ISERROR($I13),"",INDIRECT(ADDRESS($I13,K$5,4,,$G13)))} -> 0 | L13: {=IF(I_ExchangeRate="","",IF(ISERROR($I13),"",INDIRECT(ADDRESS($I13,L$5,4,,$G13))))} | M13: {=IF(ISERROR($I13),"",INDIRECT(ADDRESS($I13,M$5,4,,$G13)))} -> 0 | N13: {=IF(I_ExchangeRate="","",IF(ISERROR($I13),"",INDIRECT(ADDRESS($I13,N$5,4,,$G13))))}
F14: =IF(E14="",F13,E14) -> Personal income | G14: =INDEX(LookUps!P:P,MATCH(F14,LookUps!Q:Q,0)) -> 1.Personal income | H14: =INDEX('B. CostCategories'!F:F,MATCH(F14&J14,'B. CostCategories'!H:H,0)) -> R4 | I14: =MATCH(H14,INDIRECT(SUBSTITUTE(ADDRESS(1,3,4,,$G14),1,"",IF(LEFT(G14,1)="1","2","1"))&":"&SUBSTITUTE(ADDRESS(1,3,4),1,"")),0)+11 -> 61 | J14: =IF('B. CostCategories'!E18="","",'B. CostCategories'!E18) | K14: {=IF(ISERROR($I14),"",INDIRECT(ADDRESS($I14,K$5,4,,$G14)))} -> 0 | L14: {=IF(I_ExchangeRate="","",IF(ISERROR($I14),"",INDIRECT(ADDRESS($I14,L$5,4,,$G14))))} | M14: {=IF(ISERROR($I14),"",INDIRECT(ADDRESS($I14,M$5,4,,$G14)))} -> 0 | N14: {=IF(I_ExchangeRate="","",IF(ISERROR($I14),"",INDIRECT(ADDRESS($I14,N$5,4,,$G14))))}
F15: =IF(E15="",F14,E15) -> Personal income | G15: =INDEX(LookUps!P:P,MATCH(F15,LookUps!Q:Q,0)) -> 1.Personal income | H15: =INDEX('B. CostCategories'!F:F,MATCH(F15&J15,'B. CostCategories'!H:H,0)) -> R4 | I15: =MATCH(H15,INDIRECT(SUBSTITUTE(ADDRESS(1,3,4,,$G15),1,"",IF(LEFT(G15,1)="1","2","1"))&":"&SUBSTITUTE(ADDRESS(1,3,4),1,"")),0)+11 -> 61 | J15: =IF('B. CostCategories'!E19="","",'B. CostCategories'!E19) | K15: {=IF(ISERROR($I15),"",INDIRECT(ADDRESS($I15,K$5,4,,$G15)))} -> 0 | L15: {=IF(I_ExchangeRate="","",IF(ISERROR($I15),"",INDIRECT(ADDRESS($I15,L$5,4,,$G15))))} | M15: {=IF(ISERROR($I15),"",INDIRECT(ADDRESS($I15,M$5,4,,$G15)))} -> 0 | N15: {=IF(I_ExchangeRate="","",IF(ISERROR($I15),"",INDIRECT(ADDRESS($I15,N$5,4,,$G15))))}
F16: =IF(E16="",F15,E16) -> Personal income | G16: =INDEX(LookUps!P:P,MATCH(F16,LookUps!Q:Q,0)) -> 1.Personal income | H16: =INDEX('B. CostCategories'!F:F,MATCH(F16&J16,'B. CostCategories'!H:H,0)) -> R4 | I16: =MATCH(H16,INDIRECT(SUBSTITUTE(ADDRESS(1,3,4,,$G16),1,"",IF(LEFT(G16,1)="1","2","1"))&":"&SUBSTITUTE(ADDRESS(1,3,4),1,"")),0)+11 -> 61 | J16: =IF('B. CostCategories'!E20="","",'B. CostCategories'!E20) | K16: {=IF(ISERROR($I16),"",INDIRECT(ADDRESS($I16,K$5,4,,$G16)))} -> 0 | L16: {=IF(I_ExchangeRate="","",IF(ISERROR($I16),"",INDIRECT(ADDRESS($I16,L$5,4,,$G16))))} | M16: {=IF(ISERROR($I16),"",INDIRECT(ADDRESS($I16,M$5,4,,$G16)))} -> 0 | N16: {=IF(I_ExchangeRate="","",IF(ISERROR($I16),"",INDIRECT(ADDRESS($I16,N$5,4,,$G16))))}
C17: ='B. CostCategories'!C15 -> 1 | D17: 1 | E17: ="Total "&E11 -> Total Personal income | F17: =IF(E17="",F16,E17) -> Total Personal income | G17: =INDEX(LookUps!P:P,MATCH(F17,LookUps!Q:Q,0)) -> #N/A | H17: =INDEX('B. CostCategories'!F:F,MATCH(F17&J17,'B. CostCategories'!H:H,0)) -> #N/A | I17: =MATCH(H17,INDIRECT(SUBSTITUTE(ADDRESS(1,3,4,,$G17),1,"")&":"&SUBSTITUTE(ADDRESS(1,3,4),1,"")),0)+11 -> #N/A | K17: =SUM(K11:K16) -> 0 | L17: =SUM(L11:L16) -> 0 | M17: =SUM(M11:M16) -> 0 | N17: =SUM(N11:N16) -> 0
E18: =IF('B. CostCategories'!D21="","",'B. CostCategories'!D21) -> Healthcare | F18: =IF(E18="",F17,E18) -> Healthcare | G18: =INDEX(LookUps!P:P,MATCH(F18,LookUps!Q:Q,0)) -> 2.Healthcare | H18: =INDEX('B. CostCategories'!F:F,MATCH(F18&J18,'B. CostCategories'!H:H,0)) -> R7 | I18: =MATCH(H18,INDIRECT(SUBSTITUTE(ADDRESS(1,3,4,,$G18),1,"",IF(LEFT(G18,1)="1","2","1"))&":"&SUBSTITUTE(ADDRESS(1,3,4),1,"")),0)+11 -> 25 | J18: =IF('B. CostCategories'!E21="","",'B. CostCategories'!E21) -> Sexual violence | K18: {=IF(ISERROR($I18),"",INDIRECT(ADDRESS($I18,K$5,4,,$G18)))} -> 0 | L18: {=IF(I_ExchangeRate="","",IF(ISERROR($I18),"",INDIRECT(ADDRESS($I18,L$5,4,,$G18))))} | M18: {=IF(ISERROR($I18),"",INDIRECT(ADDRESS($I18,M$5,4,,$G18)))} -> 0 | N18: {=IF(I_ExchangeRate="","",IF(ISERROR($I18),"",INDIRECT(ADDRESS($I18,N$5,4,,$G18))))}
F19: =IF(E19="",F18,E19) -> Healthcare | G19: =INDEX(LookUps!P:P,MATCH(F19,LookUps!Q:Q,0)) -> 2.Healthcare | H19: =INDEX('B. CostCategories'!F:F,MATCH(F19&J19,'B. CostCategories'!H:H,0)) -> R8 | I19: =MATCH(H19,INDIRECT(SUBSTITUTE(ADDRESS(1,3,4,,$G19),1,"",IF(LEFT(G19,1)="1","2","1"))&":"&SUBSTITUTE(ADDRESS(1,3,4),1,"")),0)+11 -> 39 | J19: =IF('B. CostCategories'!E22="","",'B. CostCategories'!E22) -> Physical violence | K19: {=IF(ISERROR($I19),"",INDIRECT(ADDRESS($I19,K$5,4,,$G19)))} -> 0 | L19: {=IF(I_ExchangeRate="","",IF(ISERROR($I19),"",INDIRECT(ADDRESS($I19,L$5,4,,$G19))))} | M19: {=IF(ISERROR($I19),"",INDIRECT(ADDRESS($I19,M$5,4,,$G19)))} -> 0 | N19: {=IF(I_ExchangeRate="","",IF(ISERROR($I19),"",INDIRECT(ADDRESS($I19,N$5,4,,$G19))))}
F20: =IF(E20="",F19,E20) -> Healthcare | G20: =INDEX(LookUps!P:P,MATCH(F20,LookUps!Q:Q,0)) -> 2.Healthcare | H20: =INDEX('B. CostCategories'!F:F,MATCH(F20&J20,'B. CostCategories'!H:H,0)) -> R9 | I20: =MATCH(H20,INDIRECT(SUBSTITUTE(ADDRESS(1,3,4,,$G20),1,"",IF(LEFT(G20,1)="1","2","1"))&":"&SUBSTITUTE(ADDRESS(1,3,4),1,"")),0)+11 -> 53 | J20: =IF('B. CostCategories'!E23="","",'B. CostCategories'!E23) | K20: {=IF(ISERROR($I20),"",INDIRECT(ADDRESS($I20,K$5,4,,$G20)))} -> 0 | L20: {=IF(I_ExchangeRate="","",IF(ISERROR($I20),"",INDIRECT(ADDRESS($I20,L$5,4,,$G20))))} | M20: {=IF(ISERROR($I20),"",INDIRECT(ADDRESS($I20,M$5,4,,$G20)))} -> 0 | N20: {=IF(I_ExchangeRate="","",IF(ISERROR($I20),"",INDIRECT(ADDRESS($I20,N$5,4,,$G20))))}
F21: =IF(E21="",F20,E21) -> Healthcare | G21: =INDEX(LookUps!P:P,MATCH(F21,LookUps!Q:Q,0)) -> 2.Healthcare | H21: =INDEX('B. CostCategories'!F:F,MATCH(F21&J21,'B. CostCategories'!H:H,0)) -> R9 | I21: =MATCH(H21,INDIRECT(SUBSTITUTE(ADDRESS(1,3,4,,$G21),1,"",IF(LEFT(G21,1)="1","2","1"))&":"&SUBSTITUTE(ADDRESS(1,3,4),1,"")),0)+11 -> 53 | J21: =IF('B. CostCategories'!E24="","",'B. CostCategories'!E24) | K21: {=IF(ISERROR($I21),"",INDIRECT(ADDRESS($I21,K$5,4,,$G21)))} -> 0 | L21: {=IF(I_ExchangeRate="","",IF(ISERROR($I21),"",INDIRECT(ADDRESS($I21,L$5,4,,$G21))))} | M21: {=IF(ISERROR($I21),"",INDIRECT(ADDRESS($I21,M$5,4,,$G21)))} -> 0 | N21: {=IF(I_ExchangeRate="","",IF(ISERROR($I21),"",INDIRECT(ADDRESS($I21,N$5,4,,$G21))))}
F22: =IF(E22="",F21,E22) -> Healthcare | G22: =INDEX(LookUps!P:P,MATCH(F22,LookUps!Q:Q,0)) -> 2.Healthcare | H22: =INDEX('B. CostCategories'!F:F,MATCH(F22&J22,'B. CostCategories'!H:H,0)) -> R9 | I22: =MATCH(H22,INDIRECT(SUBSTITUTE(ADDRESS(1,3,4,,$G22),1,"",IF(LEFT(G22,1)="1","2","1"))&":"&SUBSTITUTE(ADDRESS(1,3,4),1,"")),0)+11 -> 53 | J22: =IF('B. CostCategories'!E25="","",'B. CostCategories'!E25) | K22: {=IF(ISERROR($I22),"",INDIRECT(ADDRESS($I22,K$5,4,,$G22)))} -> 0 | L22: {=IF(I_ExchangeRate="","",IF(ISERROR($I22),"",INDIRECT(ADDRESS($I22,L$5,4,,$G22))))} | M22: {=IF(ISERROR($I22),"",INDIRECT(ADDRESS($I22,M$5,4,,$G22)))} -> 0 | N22: {=IF(I_ExchangeRate="","",IF(ISERROR($I22),"",INDIRECT(ADDRESS($I22,N$5,4,,$G22))))}
F23: =IF(E23="",F22,E23) -> Healthcare | G23: =INDEX(LookUps!P:P,MATCH(F23,LookUps!Q:Q,0)) -> 2.Healthcare | H23: =INDEX('B. CostCategories'!F:F,MATCH(F23&J23,'B. CostCategories'!H:H,0)) -> #N/A | J23: Private healthcare expenses (added through uplift) | K23: =IF('2.Healthcare'!H7=Ans_No,0,'2.Healthcare'!$H$9*SUM(DetailedSummary!K18:K22)) -> 0 | L23: =IF(I_ExchangeRate="","",K23/I_ExchangeRate) | M23: =IF('2.Healthcare'!H7=Ans_No,0,'2.Healthcare'!$H$9*SUM(DetailedSummary!M18:M22)) -> 0 | N23: =IF(I_ExchangeRate="","",M23/I_ExchangeRate)
C24: ='B. CostCategories'!C21 -> 2 | D24: 1 | E24: ="Total "&E18 -> Total Healthcare | F24: =IF(E24="",F22,E24) -> Total Healthcare | G24: =INDEX(LookUps!P:P,MATCH(F24,LookUps!Q:Q,0)) -> #N/A | H24: =INDEX('B. CostCategories'!F:F,MATCH(F24&J24,'B. CostCategories'!H:H,0)) -> #N/A | I24: =MATCH(H24,INDIRECT(SUBSTITUTE(ADDRESS(1,3,4,,$G24),1,"")&":"&SUBSTITUTE(ADDRESS(1,3,4),1,"")),0)+11 -> #N/A | K24: =SUM(K18:K23) -> 0 | L24: =SUM(L18:L23) -> 0 | M24: =SUM(M18:M23) -> 0 | N24: =SUM(N18:N23) -> 0
E25: =IF('B. CostCategories'!D26="","",'B. CostCategories'!D26) -> Law enforcement and judiciary | F25: =IF(E25="",F24,E25) -> Law enforcement and judiciary | G25: =INDEX(LookUps!P:P,MATCH(F25,LookUps!Q:Q,0)) -> 3.Law enforcement and judiciary | H25: =INDEX('B. CostCategories'!F:F,MATCH(F25&J25,'B. CostCategories'!H:H,0)) -> R12 | I25: =MATCH(H25,INDIRECT(SUBSTITUTE(ADDRESS(1,3,4,,$G25),1,"",IF(LEFT(G25,1)="1","2","1"))&":"&SUBSTITUTE(ADDRESS(1,3,4),1,"")),0)+11 -> 19 | J25: =IF('B. CostCategories'!E26="","",'B. CostCategories'!E26) -> Cost of service call by police | K25: {=IF(ISERROR($I25),"",INDIRECT(ADDRESS($I25,K$5,4,,$G25)))} -> 0 | L25: {=IF(I_ExchangeRate="","",IF(ISERROR($I25),"",INDIRECT(ADDRESS($I25,L$5,4,,$G25))))} | M25: {=IF(ISERROR($I25),"",INDIRECT(ADDRESS($I25,M$5,4,,$G25)))} -> 0 | N25: {=IF(I_ExchangeRate="","",IF(ISERROR($I25),"",INDIRECT(ADDRESS($I25,N$5,4,,$G25))))}
F26: =IF(E26="",F25,E26) -> Law enforcement and judiciary | G26: =INDEX(LookUps!P:P,MATCH(F26,LookUps!Q:Q,0)) -> 3.Law enforcement and judiciary | H26: =INDEX('B. CostCategories'!F:F,MATCH(F26&J26,'B. CostCategories'!H:H,0)) -> R13 | I26: =MATCH(H26,INDIRECT(SUBSTITUTE(ADDRESS(1,3,4,,$G26),1,"",IF(LEFT(G26,1)="1","2","1"))&":"&SUBSTITUTE(ADDRESS(1,3,4),1,"")),0)+11 -> 33 | J26: =IF('B. CostCategories'!E27="","",'B. CostCategories'!E27) -> Registration and administration cost of case | K26: {=IF(ISERROR($I26),"",INDIRECT(ADDRESS($I26,K$5,4,,$G26)))} -> 0 | L26: {=IF(I_ExchangeRate="","",IF(ISERROR($I26),"",INDIRECT(ADDRESS($I26,L$5,4,,$G26))))} | M26: {=IF(ISERROR($I26),"",INDIRECT(ADDRESS($I26,M$5,4,,$G26)))} -> 0 | N26: {=IF(I_ExchangeRate="","",IF(ISERROR($I26),"",INDIRECT(ADDRESS($I26,N$5,4,,$G26))))}
F27: =IF(E27="",F26,E27) -> Law enforcement and judiciary | G27: =INDEX(LookUps!P:P,MATCH(F27,LookUps!Q:Q,0)) -> 3.Law enforcement and judiciary | H27: =INDEX('B. CostCategories'!F:F,MATCH(F27&J27,'B. CostCategories'!H:H,0)) -> R14 | I27: =MATCH(H27,INDIRECT(SUBSTITUTE(ADDRESS(1,3,4,,$G27),1,"",IF(LEFT(G27,1)="1","2","1"))&":"&SUBSTITUTE(ADDRESS(1,3,4),1,"")),0)+11 -> 47 | J27: =IF('B. CostCategories'!E28="","",'B. CostCategories'!E28) -> Protection | K27: {=IF(ISERROR($I27),"",INDIRECT(ADDRESS($I27,K$5,4,,$G27)))} -> 0 | L27: {=IF(I_ExchangeRate="","",IF(ISERROR($I27),"",INDIRECT(ADDRESS($I27,L$5,4,,$G27))))} | M27: {=IF(ISERROR($I27),"",INDIRECT(ADDRESS($I27,M$5,4,,$G27)))} -> 0 | N27: {=IF(I_ExchangeRate="","",IF(ISERROR($I27),"",INDIRECT(ADDRESS($I27,N$5,4,,$G27))))}
F28: =IF(E28="",F27,E28) -> Law enforcement and judiciary | G28: =INDEX(LookUps!P:P,MATCH(F28,LookUps!Q:Q,0)) -> 3.Law enforcement and judiciary | H28: =INDEX('B. CostCategories'!F:F,MATCH(F28&J28,'B. CostCategories'!H:H,0)) -> R15 | I28: =MATCH(H28,INDIRECT(SUBSTITUTE(ADDRESS(1,3,4,,$G28),1,"",IF(LEFT(G28,1)="1","2","1"))&":"&SUBSTITUTE(ADDRESS(1,3,4),1,"")),0)+11 -> 61 | J28: =IF('B. CostCategories'!E29="","",'B. CostCategories'!E29) -> Probation/Arrest | K28: {=IF(ISERROR($I28),"",INDIRECT(ADDRESS($I28,K$5,4,,$G28)))} -> 0 | L28: {=IF(I_ExchangeRate="","",IF(ISERROR($I28),"",INDIRECT(ADDRESS($I28,L$5,4,,$G28))))} | M28: {=IF(ISERROR($I28),"",INDIRECT(ADDRESS($I28,M$5,4,,$G28)))} -> 0 | N28: {=IF(I_ExchangeRate="","",IF(ISERROR($I28),"",INDIRECT(ADDRESS($I28,N$5,4,,$G28))))}
F29: =IF(E29="",F28,E29) -> Law enforcement and judiciary | G29: =INDEX(LookUps!P:P,MATCH(F29,LookUps!Q:Q,0)) -> 3.Law enforcement and judiciary | H29: =INDEX('B. CostCategories'!F:F,MATCH(F29&J29,'B. CostCategories'!H:H,0)) -> R16 | I29: =MATCH(H29,INDIRECT(SUBSTITUTE(ADDRESS(1,3,4,,$G29),1,"",IF(LEFT(G29,1)="1","2","1"))&":"&SUBSTITUTE(ADDRESS(1,3,4),1,"")),0)+11 -> 75 | J29: =IF('B. CostCategories'!E30="","",'B. CostCategories'!E30) -> Eviction | K29: {=IF(ISERROR($I29),"",INDIRECT(ADDRESS($I29,K$5,4,,$G29)))} -> 0 | L29: {=IF(I_ExchangeRate="","",IF(ISERROR($I29),"",INDIRECT(ADDRESS($I29,L$5,4,,$G29))))} | M29: {=IF(ISERROR($I29),"",INDIRECT(ADDRESS($I29,M$5,4,,$G29)))} -> 0 | N29: {=IF(I_ExchangeRate="","",IF(ISERROR($I29),"",INDIRECT(ADDRESS($I29,N$5,4,,$G29))))}
F30: =IF(E30="",F29,E30) -> Law enforcement and judiciary | G30: =INDEX(LookUps!P:P,MATCH(F30,LookUps!Q:Q,0)) -> 3.Law enforcement and judiciary | H30: =INDEX('B. CostCategories'!F:F,MATCH(F30&J30,'B. CostCategories'!H:H,0)) -> R17 | I30: =MATCH(H30,INDIRECT(SUBSTITUTE(ADDRESS(1,3,4,,$G30),1,"",IF(LEFT(G30,1)="1","2","1"))&":"&SUBSTITUTE(ADDRESS(1,3,4),1,"")),0)+11 -> 89 | J30: =IF('B. CostCategories'!E31="","",'B. CostCategories'!E31) -> Sexual offences | K30: {=IF(ISERROR($I30),"",INDIRECT(ADDRESS($I30,K$5,4,,$G30)))} -> 0 | L30: {=IF(I_ExchangeRate="","",IF(ISERROR($I30),"",INDIRECT(ADDRESS($I30,L$5,4,,$G30))))} | M30: {=IF(ISERROR($I30),"",INDIRECT(ADDRESS($I30,M$5,4,,$G30)))} -> 0 | N30: {=IF(I_ExchangeRate="","",IF(ISERROR($I30),"",INDIRECT(ADDRESS($I30,N$5,4,,$G30))))}
F31: =IF(E31="",F30,E31) -> Law enforcement and judiciary | G31: =INDEX(LookUps!P:P,MATCH(F31,LookUps!Q:Q,0)) -> 3.Law enforcement and judiciary | H31: =INDEX('B. CostCategories'!F:F,MATCH(F31&J31,'B. CostCategories'!H:H,0)) -> R18 | I31: =MATCH(H31,INDIRECT(SUBSTITUTE(ADDRESS(1,3,4,,$G31),1,"",IF(LEFT(G31,1)="1","2","1"))&":"&SUBSTITUTE(ADDRESS(1,3,4),1,"")),0)+11 -> 103 | J31: =IF('B. CostCategories'!E32="","",'B. CostCategories'!E32) -> Long term detention (prison) | K31: {=IF(ISERROR($I31),"",INDIRECT(ADDRESS($I31,K$5,4,,$G31)))} -> 0 | L31: {=IF(I_ExchangeRate="","",IF(ISERROR($I31),"",INDIRECT(ADDRESS($I31,L$5,4,,$G31))))} | M31: {=IF(ISERROR($I31),"",INDIRECT(ADDRESS($I31,M$5,4,,$G31)))} -> 0 | N31: {=IF(I_ExchangeRate="","",IF(ISERROR($I31),"",INDIRECT(ADDRESS($I31,N$5,4,,$G31))))}
F32: =IF(E32="",F31,E32) -> Law enforcement and judiciary | G32: =INDEX(LookUps!P:P,MATCH(F32,LookUps!Q:Q,0)) -> 3.Law enforcement and judiciary | H32: =INDEX('B. CostCategories'!F:F,MATCH(F32&J32,'B. CostCategories'!H:H,0)) -> R19 | I32: =MATCH(H32,INDIRECT(SUBSTITUTE(ADDRESS(1,3,4,,$G32),1,"",IF(LEFT(G32,1)="1","2","1"))&":"&SUBSTITUTE(ADDRESS(1,3,4),1,"")),0)+11 -> 117 | J32: =IF('B. CostCategories'!E33="","",'B. CostCategories'!E33) -> Private and Public Cost of divorce | K32: {=IF(ISERROR($I32),"",INDIRECT(ADDRESS($I32,K$5,4,,$G32)))} -> 0 | L32: {=IF(I_ExchangeRate="","",IF(ISERROR($I32),"",INDIRECT(ADDRESS($I32,L$5,4,,$G32))))} | M32: {=IF(ISERROR($I32),"",INDIRECT(ADDRESS($I32,M$5,4,,$G32)))} -> 0 | N32: {=IF(I_ExchangeRate="","",IF(ISERROR($I32),"",INDIRECT(ADDRESS($I32,N$5,4,,$G32))))}
F33: =IF(E33="",F32,E33) -> Law enforcement and judiciary | G33: =INDEX(LookUps!P:P,MATCH(F33,LookUps!Q:Q,0)) -> 3.Law enforcement and judiciary | H33: =INDEX('B. CostCategories'!F:F,MATCH(F33&J33,'B. CostCategories'!H:H,0)) -> R20 | I33: =MATCH(H33,INDIRECT(SUBSTITUTE(ADDRESS(1,3,4,,$G33),1,"",IF(LEFT(G33,1)="1","2","1"))&":"&SUBSTITUTE(ADDRESS(1,3,4),1,"")),0)+11 -> 131 | J33: =IF('B. CostCategories'!E34="","",'B. CostCategories'!E34) | K33: {=IF(ISERROR($I33),"",INDIRECT(ADDRESS($I33,K$5,4,,$G33)))} -> 0 | L33: {=IF(I_ExchangeRate="","",IF(ISERROR($I33),"",INDIRECT(ADDRESS($I33,L$5,4,,$G33))))} | M33: {=IF(ISERROR($I33),"",INDIRECT(ADDRESS($I33,M$5,4,,$G33)))} -> 0 | N33: {=IF(I_ExchangeRate="","",IF(ISERROR($I33),"",INDIRECT(ADDRESS($I33,N$5,4,,$G33))))}
F34: =IF(E34="",F33,E34) -> Law enforcement and judiciary | G34: =INDEX(LookUps!P:P,MATCH(F34,LookUps!Q:Q,0)) -> 3.Law enforcement and judiciary | H34: =INDEX('B. CostCategories'!F:F,MATCH(F34&J34,'B. CostCategories'!H:H,0)) -> R20 | I34: =MATCH(H34,INDIRECT(SUBSTITUTE(ADDRESS(1,3,4,,$G34),1,"",IF(LEFT(G34,1)="1","2","1"))&":"&SUBSTITUTE(ADDRESS(1,3,4),1,"")),0)+11 -> 131 | J34: =IF('B. CostCategories'!E35="","",'B. CostCategories'!E35) | K34: {=IF(ISERROR($I34),"",INDIRECT(ADDRESS($I34,K$5,4,,$G34)))} -> 0 | L34: {=IF(I_ExchangeRate="","",IF(ISERROR($I34),"",INDIRECT(ADDRESS($I34,L$5,4,,$G34))))} | M34: {=IF(ISERROR($I34),"",INDIRECT(ADDRESS($I34,M$5,4,,$G34)))} -> 0 | N34: {=IF(I_ExchangeRate="","",IF(ISERROR($I34),"",INDIRECT(ADDRESS($I34,N$5,4,,$G34))))}
F35: =IF(E35="",F34,E35) -> Law enforcement and judiciary | G35: =INDEX(LookUps!P:P,MATCH(F35,LookUps!Q:Q,0)) -> 3.Law enforcement and judiciary | H35: =INDEX('B. CostCategories'!F:F,MATCH(F35&J35,'B. CostCategories'!H:H,0)) -> R20 | I35: =MATCH(H35,INDIRECT(SUBSTITUTE(ADDRESS(1,3,4,,$G35),1,"",IF(LEFT(G35,1)="1","2","1"))&":"&SUBSTITUTE(ADDRESS(1,3,4),1,"")),0)+11 -> 131 | J35: =IF('B. CostCategories'!E36="","",'B. CostCategories'!E36) | K35: {=IF(ISERROR($I35),"",INDIRECT(ADDRESS($I35,K$5,4,,$G35)))} -> 0 | L35: {=IF(I_ExchangeRate="","",IF(ISERROR($I35),"",INDIRECT(ADDRESS($I35,L$5,4,,$G35))))} | M35: {=IF(ISERROR($I35),"",INDIRECT(ADDRESS($I35,M$5,4,,$G35)))} -> 0 | N35: {=IF(I_ExchangeRate="","",IF(ISERROR($I35),"",INDIRECT(ADDRESS($I35,N$5,4,,$G35))))}
C36: ='B. CostCategories'!C26 -> 3 | D36: 1 | E36: ="Total "&E25 -> Total Law enforcement and judiciary | F36: =IF(E36="",F35,E36) -> Total Law enforcement and judiciary | G36: =INDEX(LookUps!P:P,MATCH(F36,LookUps!Q:Q,0)) -> #N/A | H36: =INDEX('B. CostCategories'!F:F,MATCH(F36&J36,'B. CostCategories'!H:H,0)) -> #N/A | I36: =MATCH(H36,INDIRECT(SUBSTITUTE(ADDRESS(1,3,4,,$G36),1,"")&":"&SUBSTITUTE(ADDRESS(1,3,4),1,"")),0)+11 -> #N/A | K36: =SUM(K25:K35) -> 0 | L36: =SUM(L25:L35) -> 0 | M36: =SUM(M25:M35) -> 0 | N36: =SUM(N25:N35) -> 0
E37: =IF('B. CostCategories'!D37="","",'B. CostCategories'!D37) -> Social services | F37: =IF(E37="",F36,E37) -> Social services | G37: =INDEX(LookUps!P:P,MATCH(F37,LookUps!Q:Q,0)) -> 4.Social services | H37: =INDEX('B. CostCategories'!F:F,MATCH(F37&J37,'B. CostCategories'!H:H,0)) -> R23 | I37: =MATCH(H37,INDIRECT(SUBSTITUTE(ADDRESS(1,3,4,,$G37),1,"",IF(LEFT(G37,1)="1","2","1"))&":"&SUBSTITUTE(ADDRESS(1,3,4),1,"")),0)+11 -> 19 | J37: =IF('B. CostCategories'!E37="","",'B. CostCategories'!E37) -> Case completion for social services | K37: {=IF(ISERROR($I37),"",INDIRECT(ADDRESS($I37,K$5,4,,$G37)))} -> 0 | L37: {=IF(I_ExchangeRate="","",IF(ISERROR($I37),"",INDIRECT(ADDRESS($I37,L$5,4,,$G37))))} | M37: {=IF(ISERROR($I37),"",INDIRECT(ADDRESS($I37,M$5,4,,$G37)))} -> 0 | N37: {=IF(I_ExchangeRate="","",IF(ISERROR($I37),"",INDIRECT(ADDRESS($I37,N$5,4,,$G37))))}
F38: =IF(E38="",F37,E38) -> Social services | G38: =INDEX(LookUps!P:P,MATCH(F38,LookUps!Q:Q,0)) -> 4.Social services | H38: =INDEX('B. CostCategories'!F:F,MATCH(F38&J38,'B. CostCategories'!H:H,0)) -> R24 | I38: =MATCH(H38,INDIRECT(SUBSTITUTE(ADDRESS(1,3,4,,$G38),1,"",IF(LEFT(G38,1)="1","2","1"))&":"&SUBSTITUTE(ADDRESS(1,3,4),1,"")),0)+11 -> 33 | J38: =IF('B. CostCategories'!E38="","",'B. CostCategories'!E38) -> Mediating self-referral cases | K38: {=IF(ISERROR($I38),"",INDIRECT(ADDRESS($I38,K$5,4,,$G38)))} -> 0 | L38: {=IF(I_ExchangeRate="","",IF(ISERROR($I38),"",INDIRECT(ADDRESS($I38,L$5,4,,$G38))))} | M38: {=IF(ISERROR($I38),"",INDIRECT(ADDRESS($I38,M$5,4,,$G38)))} -> 0 | N38: {=IF(I_ExchangeRate="","",IF(ISERROR($I38),"",INDIRECT(ADDRESS($I38,N$5,4,,$G38))))}
F39: =IF(E39="",F38,E39) -> Social services | G39: =INDEX(LookUps!P:P,MATCH(F39,LookUps!Q:Q,0)) -> 4.Social services | H39: =INDEX('B. CostCategories'!F:F,MATCH(F39&J39,'B. CostCategories'!H:H,0)) -> R25 | I39: =MATCH(H39,INDIRECT(SUBSTITUTE(ADDRESS(1,3,4,,$G39),1,"",IF(LEFT(G39,1)="1","2","1"))&":"&SUBSTITUTE(ADDRESS(1,3,4),1,"")),0)+11 -> 47 | J39: =IF('B. CostCategories'!E39="","",'B. CostCategories'!E39) -> Counselling services | K39: {=IF(ISERROR($I39),"",INDIRECT(ADDRESS($I39,K$5,4,,$G39)))} -> 0 | L39: {=IF(I_ExchangeRate="","",IF(ISERROR($I39),"",INDIRECT(ADDRESS($I39,L$5,4,,$G39))))} | M39: {=IF(ISERROR($I39),"",INDIRECT(ADDRESS($I39,M$5,4,,$G39)))} -> 0 | N39: {=IF(I_ExchangeRate="","",IF(ISERROR($I39),"",INDIRECT(ADDRESS($I39,N$5,4,,$G39))))}
F40: =IF(E40="",F39,E40) -> Social services | G40: =INDEX(LookUps!P:P,MATCH(F40,LookUps!Q:Q,0)) -> 4.Social services | H40: =INDEX('B. CostCategories'!F:F,MATCH(F40&J40,'B. CostCategories'!H:H,0)) -> R26 | I40: =MATCH(H40,INDIRECT(SUBSTITUTE(ADDRESS(1,3,4,,$G40),1,"",IF(LEFT(G40,1)="1","2","1"))&":"&SUBSTITUTE(ADDRESS(1,3,4),1,"")),0)+11 -> 61 | J40: =IF('B. CostCategories'!E40="","",'B. CostCategories'!E40) | K40: {=IF(ISERROR($I40),"",INDIRECT(ADDRESS($I40,K$5,4,,$G40)))} -> 0 | L40: {=IF(I_ExchangeRate="","",IF(ISERROR($I40),"",INDIRECT(ADDRESS($I40,L$5,4,,$G40))))} | M40: {=IF(ISERROR($I40),"",INDIRECT(ADDRESS($I40,M$5,4,,$G40)))} -> 0 | N40: {=IF(I_ExchangeRate="","",IF(ISERROR($I40),"",INDIRECT(ADDRESS($I40,N$5,4,,$G40))))}
F41: =IF(E41="",F40,E41) -> Social services | G41: =INDEX(LookUps!P:P,MATCH(F41,LookUps!Q:Q,0)) -> 4.Social services | H41: =INDEX('B. CostCategories'!F:F,MATCH(F41&J41,'B. CostCategories'!H:H,0)) -> R26 | I41: =MATCH(H41,INDIRECT(SUBSTITUTE(ADDRESS(1,3,4,,$G41),1,"",IF(LEFT(G41,1)="1","2","1"))&":"&SUBSTITUTE(ADDRESS(1,3,4),1,"")),0)+11 -> 61 | J41: =IF('B. CostCategories'!E41="","",'B. CostCategories'!E41) | K41: {=IF(ISERROR($I41),"",INDIRECT(ADDRESS($I41,K$5,4,,$G41)))} -> 0 | L41: {=IF(I_ExchangeRate="","",IF(ISERROR($I41),"",INDIRECT(ADDRESS($I41,L$5,4,,$G41))))} | M41: {=IF(ISERROR($I41),"",INDIRECT(ADDRESS($I41,M$5,4,,$G41)))} -> 0 | N41: {=IF(I_ExchangeRate="","",IF(ISERROR($I41),"",INDIRECT(ADDRESS($I41,N$5,4,,$G41))))}
F42: =IF(E42="",F41,E42) -> Social services | G42: =INDEX(LookUps!P:P,MATCH(F42,LookUps!Q:Q,0)) -> 4.Social services | H42: =INDEX('B. CostCategories'!F:F,MATCH(F42&J42,'B. CostCategories'!H:H,0)) -> R26 | I42: =MATCH(H42,INDIRECT(SUBSTITUTE(ADDRESS(1,3,4,,$G42),1,"",IF(LEFT(G42,1)="1","2","1"))&":"&SUBSTITUTE(ADDRESS(1,3,4),1,"")),0)+11 -> 61 | J42: =IF('B. CostCategories'!E42="","",'B. CostCategories'!E42) | K42: {=IF(ISERROR($I42),"",INDIRECT(ADDRESS($I42,K$5,4,,$G42)))} -> 0 | L42: {=IF(I_ExchangeRate="","",IF(ISERROR($I42),"",INDIRECT(ADDRESS($I42,L$5,4,,$G42))))} | M42: {=IF(ISERROR($I42),"",INDIRECT(ADDRESS($I42,M$5,4,,$G42)))} -> 0 | N42: {=IF(I_ExchangeRate="","",IF(ISERROR($I42),"",INDIRECT(ADDRESS($I42,N$5,4,,$G42))))}
C43: ='B. CostCategories'!C37 -> 4 | D43: 1 | E43: ="Total "&E37 -> Total Social services | F43: =IF(E43="",F42,E43) -> Total Social services | G43: =INDEX(LookUps!P:P,MATCH(F43,LookUps!Q:Q,0)) -> #N/A | H43: =INDEX('B. CostCategories'!F:F,MATCH(F43&J43,'B. CostCategories'!H:H,0)) -> #N/A | I43: =MATCH(H43,INDIRECT(SUBSTITUTE(ADDRESS(1,3,4,,$G43),1,"")&":"&SUBSTITUTE(ADDRESS(1,3,4),1,"")),0)+11 -> #N/A | K43: =SUM(K37:K42) -> 0 | L43: =SUM(L37:L42) -> 0 | M43: =SUM(M37:M42) -> 0 | N43: =SUM(N37:N42) -> 0
E44: =IF('B. CostCategories'!D43="","",'B. CostCategories'!D43) -> Specialised Services | F44: =IF(E44="",F43,E44) -> Specialised Services | G44: =INDEX(LookUps!P:P,MATCH(F44,LookUps!Q:Q,0)) -> 5.Specialised Services | H44: =INDEX('B. CostCategories'!F:F,MATCH(F44&J44,'B. CostCategories'!H:H,0)) -> R29 | I44: =MATCH(H44,INDIRECT(SUBSTITUTE(ADDRESS(1,3,4,,$G44),1,"",IF(LEFT(G44,1)="1","2","1"))&":"&SUBSTITUTE(ADDRESS(1,3,4),1,"")),0)+11 -> 19 | J44: =IF('B. CostCategories'!E43="","",'B. CostCategories'!E43) -> Hotline | K44: {=IF(ISERROR($I44),"",INDIRECT(ADDRESS($I44,K$5,4,,$G44)))} -> 0 | L44: {=IF(I_ExchangeRate="","",IF(ISERROR($I44),"",INDIRECT(ADDRESS($I44,L$5,4,,$G44))))} | M44: {=IF(ISERROR($I44),"",INDIRECT(ADDRESS($I44,M$5,4,,$G44)))} -> 0 | N44: {=IF(I_ExchangeRate="","",IF(ISERROR($I44),"",INDIRECT(ADDRESS($I44,N$5,4,,$G44))))}
...

Sheet HLSummary
C2: High-level summary
C5: This sheet provides a high-level summary of the overall economic costs, and costs in the context of GDP. To complete this sheet fully, data is needed from an input-output model (IOM) or a social accounting matrix (SAM), which should be developed separately. A prototype is provided to illustrate what this might look like. More detail on completing this can be found in the Facilitator's Guide. Once the IOM/SAM has been completed, data should be entered in the yellow cells below.
D8: =DetailedSummary!K9 -> Typical case | F8: =DetailedSummary!M9 -> Full coverage case
D9: =I_CurrencySymbol -> 0 | E9: $ | F9: =I_CurrencySymbol -> 0 | G9: $
C10: Total Direct Cost | D10: =SUMIFS(DetailedSummary!K:K,DetailedSummary!$C:$C,">0",DetailedSummary!$D:$D,1) -> 0 | E10: =SUMIFS(DetailedSummary!L:L,DetailedSummary!$C:$C,">0",DetailedSummary!$D:$D,1) -> 0 | F10: =SUMIFS(DetailedSummary!M:M,DetailedSummary!$C:$C,">0",DetailedSummary!$D:$D,1) -> 0 | G10: =SUMIFS(DetailedSummary!N:N,DetailedSummary!$C:$C,">0",DetailedSummary!$D:$D,1) -> 0
C11: Total Economy wide Cost | E11: =IF(I_ExchangeRate="","",IF(ISERROR(D11),"",D11/I_ExchangeRate)) | G11: =IF(I_ExchangeRate="","",IF(ISERROR(F11),"",F11/I_ExchangeRate))
C12: Total Cost | D12: =SUM(D10:D11) -> 0 | E12: =SUM(E10:E11) -> 0 | F12: =SUM(F10:F11) -> 0 | G12: =SUM(G10:G11) -> 0
C13: Total Direct Cost as % of GDP | D13: =(D10/GDPLocalCurrency) -> #DIV/0! | F13: =(F10/GDPLocalCurrency) -> #DIV/0!
C14: Total Economy wide Cost as % of GDP | D14: =(D11/GDPLocalCurrency) -> #DIV/0! | F14: =(F11/GDPLocalCurrency) -> #DIV/0!
C15: Total Cost as % of GDP | D15: =(D12/GDPLocalCurrency) -> #DIV/0! | F15: =(F12/GDPLocalCurrency) -> #DIV/0!

Sheet Dashboard
D2: Dashboard
D5: The data below shows summaries by cost category. The buttons below can be used to copy the charts to paste them elsewhere.
G7: =DetailedSummary!K9 -> Typical case | L7: =DetailedSummary!M9 -> Full coverage case
D8: =DetailedSummary!E10 -> Cost category | F8: Match row | G8: =DetailedSummary!K10 -> 0 | H8: =DetailedSummary!L10 -> $ | I8: % of GDP | J8: Cost category as a percentage of costs | K8: Cost category as a percentage of costs (for labels) | L8: =DetailedSummary!M10 -> 0 | M8: =DetailedSummary!N10 -> $ | N8: % of GDP | O8: Cost category as a percentage of costs | P8: Cost category as a percentage of costs (for labels)
C9: 1 | D9: =LookUps!F6 -> Personal income | E9: 1 | F9: =IF(D9=0,"",MATCH(E9,DetailedSummary!C:C,0)) -> 17 | G9: {=IF($F9="","",INDEX(DetailedSummary!K:K,$F9,0))} -> 0 | H9: {=IF($F9="","",INDEX(DetailedSummary!L:L,$F9,0))} -> 0 | I9: =IF(G9="","",G9/GDPLocalCurrency) -> #DIV/0! | J9: =IF(G9="","",IF($G$23=0,"",G9/G$23)) | K9: =IF(J9<5%,"",J9) | L9: {=IF($F9="","",INDEX(DetailedSummary!M:M,$F9,0))} -> 0 | M9: {=IF($F9="","",INDEX(DetailedSummary!N:N,$F9,0))} -> 0 | N9: =IF(L9="","",L9/GDPLocalCurrency) -> #DIV/0! | O9: =IF(L9="","",IF($L$23=0,"",L9/L$23)) | P9: =IF(O9<5%,"",O9)
C10: 1 | D10: =LookUps!F7 -> Healthcare | E10: =E9+1 -> 2 | F10: =IF(D10=0,"",MATCH(E10,DetailedSummary!C:C,0)) -> 24 | G10: {=IF($F10="","",INDEX(DetailedSummary!K:K,$F10,0))} -> 0 | H10: {=IF($F10="","",INDEX(DetailedSummary!L:L,$F10,0))} -> 0 | I10: =IF(G10="","",G10/GDPLocalCurrency) -> #DIV/0! | J10: =IF(G10="","",IF($G$23=0,"",G10/G$23)) | K10: =IF(J10<5%,"",J10) | L10: {=IF($F10="","",INDEX(DetailedSummary!M:M,$F10,0))} -> 0 | M10: {=IF($F10="","",INDEX(DetailedSummary!N:N,$F10,0))} -> 0 | N10: =IF(L10="","",L10/GDPLocalCurrency) -> #DIV/0! | O10: =IF(L10="","",IF($L$23=0,"",L10/L$23)) | P10: =IF(O10<5%,"",O10)
C11: 1 | D11: =LookUps!F8 -> Law enforcement and judiciary | E11: =E10+1 -> 3 | F11: =IF(D11=0,"",MATCH(E11,DetailedSummary!C:C,0)) -> 36 | G11: {=IF($F11="","",INDEX(DetailedSummary!K:K,$F11,0))} -> 0 | H11: {=IF($F11="","",INDEX(DetailedSummary!L:L,$F11,0))} -> 0 | I11: =IF(G11="","",G11/GDPLocalCurrency) -> #DIV/0! | J11: =IF(G11="","",IF($G$23=0,"",G11/G$23)) | K11: =IF(J11<5%,"",J11) | L11: {=IF($F11="","",INDEX(DetailedSummary!M:M,$F11,0))} -> 0 | M11: {=IF($F11="","",INDEX(DetailedSummary!N:N,$F11,0))} -> 0 | N11: =IF(L11="","",L11/GDPLocalCurrency) -> #DIV/0! | O11: =IF(L11="","",IF($L$23=0,"",L11/L$23)) | P11: =IF(O11<5%,"",O11)
C12: 1 | D12: =LookUps!F9 -> Social services | E12: =E11+1 -> 4 | F12: =IF(D12=0,"",MATCH(E12,DetailedSummary!C:C,0)) -> 43 | G12: {=IF($F12="","",INDEX(DetailedSummary!K:K,$F12,0))} -> 0 | H12: {=IF($F12="","",INDEX(DetailedSummary!L:L,$F12,0))} -> 0 | I12: =IF(G12="","",G12/GDPLocalCurrency) -> #DIV/0! | J12: =IF(G12="","",IF($G$23=0,"",G12/G$23)) | K12: =IF(J12<5%,"",J12) | L12: {=IF($F12="","",INDEX(DetailedSummary!M:M,$F12,0))} -> 0 | M12: {=IF($F12="","",INDEX(DetailedSummary!N:N,$F12,0))} -> 0 | N12: =IF(L12="","",L12/GDPLocalCurrency) -> #DIV/0! | O12: =IF(L12="","",IF($L$23=0,"",L12/L$23)) | P12: =IF(O12<5%,"",O12)
C13: 1 | D13: =LookUps!F10 -> Specialised Services | E13: =E12+1 -> 5 | F13: =IF(D13=0,"",MATCH(E13,DetailedSummary!C:C,0)) -> 49 | G13: {=IF($F13="","",INDEX(DetailedSummary!K:K,$F13,0))} -> 0 | H13: {=IF($F13="","",INDEX(DetailedSummary!L:L,$F13,0))} -> 0 | I13: =IF(G13="","",G13/GDPLocalCurrency) -> #DIV/0! | J13: =IF(G13="","",IF($G$23=0,"",G13/G$23)) | K13: =IF(J13<5%,"",J13) | L13: {=IF($F13="","",INDEX(DetailedSummary!M:M,$F13,0))} -> 0 | M13: {=IF($F13="","",INDEX(DetailedSummary!N:N,$F13,0))} -> 0 | N13: =IF(L13="","",L13/GDPLocalCurrency) -> #DIV/0! | O13: =IF(L13="","",IF($L$23=0,"",L13/L$23)) | P13: =IF(O13<5%,"",O13)
C14: 1 | D14: =LookUps!F11 -> Education services | E14: =E13+1 -> 6 | F14: =IF(D14=0,"",MATCH(E14,DetailedSummary!C:C,0)) -> 51 | G14: {=IF($F14="","",INDEX(DetailedSummary!K:K,$F14,0))} -> 0 | H14: {=IF($F14="","",INDEX(DetailedSummary!L:L,$F14,0))} -> 0 | I14: =IF(G14="","",G14/GDPLocalCurrency) -> #DIV/0! | J14: =IF(G14="","",IF($G$23=0,"",G14/G$23)) | K14: =IF(J14<5%,"",J14) | L14: {=IF($F14="","",INDEX(DetailedSummary!M:M,$F14,0))} -> 0 | M14: {=IF($F14="","",INDEX(DetailedSummary!N:N,$F14,0))} -> 0 | N14: =IF(L14="","",L14/GDPLocalCurrency) -> #DIV/0! | O14: =IF(L14="","",IF($L$23=0,"",L14/L$23)) | P14: =IF(O14<5%,"",O14)
C15: 1 | D15: =LookUps!F12 -> Personal expenses | E15: =E14+1 -> 7 | F15: =IF(D15=0,"",MATCH(E15,DetailedSummary!C:C,0)) -> 64 | G15: {=IF($F15="","",INDEX(DetailedSummary!K:K,$F15,0))} -> 0 | H15: {=IF($F15="","",INDEX(DetailedSummary!L:L,$F15,0))} -> 0 | I15: =IF(G15="","",G15/GDPLocalCurrency) -> #DIV/0! | J15: =IF(G15="","",IF($G$23=0,"",G15/G$23)) | K15: =IF(J15<5%,"",J15) | L15: {=IF($F15="","",INDEX(DetailedSummary!M:M,$F15,0))} -> 0 | M15: {=IF($F15="","",INDEX(DetailedSummary!N:N,$F15,0))} -> 0 | N15: =IF(L15="","",L15/GDPLocalCurrency) -> #DIV/0! | O15: =IF(L15="","",IF($L$23=0,"",L15/L$23)) | P15: =IF(O15<5%,"",O15)
C16: 1 | D16: =LookUps!F13 -> Other | E16: =E15+1 -> 8 | F16: =IF(D16=0,"",MATCH(E16,DetailedSummary!C:C,0)) -> 73 | G16: {=IF($F16="","",INDEX(DetailedSummary!K:K,$F16,0))} -> 0 | H16: {=IF($F16="","",INDEX(DetailedSummary!L:L,$F16,0))} -> 0 | I16: =IF(G16="","",G16/GDPLocalCurrency) -> #DIV/0! | J16: =IF(G16="","",IF($G$23=0,"",G16/G$23)) | K16: =IF(J16<5%,"",J16) | L16: {=IF($F16="","",INDEX(DetailedSummary!M:M,$F16,0))} -> 0 | M16: {=IF($F16="","",INDEX(DetailedSummary!N:N,$F16,0))} -> 0 | N16: =IF(L16="","",L16/GDPLocalCurrency) -> #DIV/0! | O16: =IF(L16="","",IF($L$23=0,"",L16/L$23)) | P16: =IF(O16<5%,"",O16)
C17: 0 | D17: =LookUps!F14 -> 0 | E17: =E16+1 -> 9 | F17: =IF(D17=0,"",MATCH(E17,DetailedSummary!C:C,0)) | G17: {=IF($F17="","",INDEX(DetailedSummary!K:K,$F17,0))} | H17: {=IF($F17="","",INDEX(DetailedSummary!L:L,$F17,0))} | I17: =IF(G17="","",G17/GDPLocalCurrency) | J17: =IF(G17="","",IF($G$23=0,"",G17/G$23)) | K17: =IF(J17<5%,"",J17) | L17: {=IF($F17="","",INDEX(DetailedSummary!M:M,$F17,0))} | M17: {=IF($F17="","",INDEX(DetailedSummary!N:N,$F17,0))} | N17: =IF(L17="","",L17/GDPLocalCurrency) | O17: =IF(L17="","",IF($L$23=0,"",L17/L$23)) | P17: =IF(O17>10%,O17,"")
C18: 0 | D18: =LookUps!F15 -> 0 | E18: =E17+1 -> 10 | F18: =IF(D18=0,"",MATCH(E18,DetailedSummary!C:C,0)) | G18: {=IF($F18="","",INDEX(DetailedSummary!K:K,$F18,0))} | H18: {=IF($F18="","",INDEX(DetailedSummary!L:L,$F18,0))} | I18: =IF(G18="","",G18/GDPLocalCurrency) | J18: =IF(G18="","",IF($G$23=0,"",G18/G$23)) | K18: =IF(J18<5%,"",J18) | L18: {=IF($F18="","",INDEX(DetailedSummary!M:M,$F18,0))} | M18: {=IF($F18="","",INDEX(DetailedSummary!N:N,$F18,0))} | N18: =IF(L18="","",L18/GDPLocalCurrency) | O18: =IF(L18="","",IF($L$23=0,"",L18/L$23)) | P18: =IF(O18>10%,O18,"")
C19: 0 | D19: =LookUps!F16 -> 0 | E19: =E18+1 -> 11 | F19: =IF(D19=0,"",MATCH(E19,DetailedSummary!C:C,0)) | G19: {=IF($F19="","",INDEX(DetailedSummary!K:K,$F19,0))} | H19: {=IF($F19="","",INDEX(DetailedSummary!L:L,$F19,0))} | I19: =IF(G19="","",G19/GDPLocalCurrency) | J19: =IF(G19="","",IF($G$23=0,"",G19/G$23)) | K19: =IF(J19<5%,"",J19) | L19: {=IF($F19="","",INDEX(DetailedSummary!M:M,$F19,0))} | M19: {=IF($F19="","",INDEX(DetailedSummary!N:N,$F19,0))} | N19: =IF(L19="","",L19/GDPLocalCurrency) | O19: =IF(L19="","",IF($L$23=0,"",L19/L$23)) | P19: =IF(O19>10%,O19,"")
C20: 0 | D20: =LookUps!F17 -> 0 | E20: =E19+1 -> 12 | F20: =IF(D20=0,"",MATCH(E20,DetailedSummary!C:C,0)) | G20: {=IF($F20="","",INDEX(DetailedSummary!K:K,$F20,0))} | H20: {=IF($F20="","",INDEX(DetailedSummary!L:L,$F20,0))} | I20: =IF(G20="","",G20/GDPLocalCurrency) | J20: =IF(G20="","",IF($G$23=0,"",G20/G$23)) | K20: =IF(J20<5%,"",J20) | L20: {=IF($F20="","",INDEX(DetailedSummary!M:M,$F20,0))} | M20: {=IF($F20="","",INDEX(DetailedSummary!N:N,$F20,0))} | N20: =IF(L20="","",L20/GDPLocalCurrency) | O20: =IF(L20="","",IF($L$23=0,"",L20/L$23)) | P20: =IF(O20>10%,O20,"")
C21: 0 | D21: =LookUps!F18 -> 0 | E21: =E20+1 -> 13 | F21: =IF(D21=0,"",MATCH(E21,DetailedSummary!C:C,0)) | G21: {=IF($F21="","",INDEX(DetailedSummary!K:K,$F21,0))} | H21: {=IF($F21="","",INDEX(DetailedSummary!L:L,$F21,0))} | I21: =IF(G21="","",G21/GDPLocalCurrency) | J21: =IF(G21="","",IF($G$23=0,"",G21/G$23)) | K21: =IF(J21<5%,"",J21) | L21: {=IF($F21="","",INDEX(DetailedSummary!M:M,$F21,0))} | M21: {=IF($F21="","",INDEX(DetailedSummary!N:N,$F21,0))} | N21: =IF(L21="","",L21/GDPLocalCurrency) | O21: =IF(L21="","",IF($L$23=0,"",L21/L$23)) | P21: =IF(O21>10%,O21,"")
C22: 0 | D22: =LookUps!F19 -> 0 | E22: =E21+1 -> 14 | F22: =IF(D22=0,"",MATCH(E22,DetailedSummary!C:C,0)) | G22: {=IF($F22="","",INDEX(DetailedSummary!K:K,$F22,0))} | H22: {=IF($F22="","",INDEX(DetailedSummary!L:L,$F22,0))} | I22: =IF(G22="","",G22/GDPLocalCurrency) | J22: =IF(G22="","",IF($G$23=0,"",G22/G$23)) | K22: =IF(J22<5%,"",J22) | L22: {=IF($F22="","",INDEX(DetailedSummary!M:M,$F22,0))} | M22: {=IF($F22="","",INDEX(DetailedSummary!N:N,$F22,0))} | N22: =IF(L22="","",L22/GDPLocalCurrency) | O22: =IF(L22="","",IF($L$23=0,"",L22/L$23)) | P22: =IF(O22>10%,O22,"")
D23: Total | G23: =SUM(G9:G22) -> 0 | H23: =SUM(H9:H22) -> 0 | I23: =G23/GDPLocalCurrency -> #DIV/0! | J23: =IF($G$23=0,"",G23/G$23) | L23: =SUM(L9:L22) -> 0 | M23: =SUM(M9:M22) -> 0 | N23: =L23/GDPLocalCurrency -> #DIV/0! | O23: =IF($L$23=0,"",L23/L$23) | P23: =M23/M$23 -> #DIV/0!

Sheet TotalEconomicCostsofVAWG
D2: Cost to the economy summary
D5: This sheet collates the direct cost and economy-wide costs of VAWG. It takes inputs from this tool as well as inputs from an economy-wide model that could either be an IOM or a SAM. It also calculates total cost of VAWG. More details about what is included in the totals in bold can be found by clicking on the cell. A pop-up message box will then tell you what this includes. It should be noted that this sheet involves some assumptions: - The 'Not classified' costs include the costs in the 'Other' cost category as well as any additional cost categories that have been created. These cost categories are only visible when they have been selected in the 'B.CostCategories' tab. - For the 'Costs by alternative classification,' it has been necessary to assume that education relates to girls and all other costs relate to adults. It is likely that this assumption overstates the costs to adults and understates the cost to girls.
D7: Cost categories | E7: =HLSummary!D8 -> Typical case | G7: =HLSummary!F8 -> Full coverage case
E8: ="Cost ("&I_CurrencySymbol &")" -> Cost () | F8: Percentage of GDP | G8: ="Cost ("&I_CurrencySymbol &")" -> Cost () | H8: Percentage of GDP
D9: A. Direct cost total | E9: =E10+E15+E17+E20 -> 0 | F9: =F10+F15+F17+F20 -> #DIV/0! | G9: =G10+G15+G17+G20 -> 0 | H9: =H10+H15+H17+H20 -> #DIV/0!
D10: Total services cost (excluding 'Not classified") | E10: =SUM(E11:E14) -> 0 | F10: =SUM(F11:F14) -> #DIV/0! | G10: =SUM(G11:G14) -> 0 | H10: =SUM(H11:H14) -> #DIV/0!
C11: 1 | D11: =Dashboard!D10 -> Healthcare | E11: =Dashboard!G10 -> 0 | F11: =Dashboard!I10 -> #DIV/0! | G11: =Dashboard!L10 -> 0 | H11: =Dashboard!N10 -> #DIV/0!
C12: 1 | D12: =Dashboard!D11 -> Law enforcement and judiciary | E12: =Dashboard!G11 -> 0 | F12: =Dashboard!I11 -> #DIV/0! | G12: =Dashboard!L11 -> 0 | H12: =Dashboard!N11 -> #DIV/0!
C13: 1 | D13: =Dashboard!D12 -> Social services | E13: =Dashboard!G12 -> 0 | F13: =Dashboard!I12 -> #DIV/0! | G13: =Dashboard!L12 -> 0 | H13: =Dashboard!N12 -> #DIV/0!
C14: 1 | D14: =Dashboard!D14 -> Education services | E14: =Dashboard!G14 -> 0 | F14: =Dashboard!I14 -> #DIV/0! | G14: =Dashboard!L14 -> 0 | H14: =Dashboard!N14 -> #DIV/0!
D15: Total operational cost | E15: =SUM(E16) -> 0 | F15: =SUM(F16) -> #DIV/0! | G15: =SUM(G16) -> 0 | H15: =SUM(H16) -> #DIV/0!
C16: 1 | D16: =Dashboard!D13 -> Specialised Services | E16: =Dashboard!G13 -> 0 | F16: =Dashboard!I13 -> #DIV/0! | G16: =Dashboard!L13 -> 0 | H16: =Dashboard!N13 -> #DIV/0!
D17: Total personal income and expenses | E17: =SUM(E18:E19) -> 0 | F17: =SUM(F18:F19) -> #DIV/0! | G17: =SUM(G18:G19) -> 0 | H17: =SUM(H18:H19) -> #DIV/0!
C18: 1 | D18: =Dashboard!D9 -> Personal income | E18: =Dashboard!G9 -> 0 | F18: =Dashboard!I9 -> #DIV/0! | G18: =Dashboard!L9 -> 0 | H18: =Dashboard!N9 -> #DIV/0!
C19: 1 | D19: =Dashboard!D15 -> Personal expenses | E19: =Dashboard!G15 -> 0 | F19: =Dashboard!I15 -> #DIV/0! | G19: =Dashboard!L15 -> 0 | H19: =Dashboard!N15 -> #DIV/0!
D20: Total 'Not classified' | E20: =SUM(E21:E27) -> 0 | F20: =SUM(F21:F27) -> #DIV/0! | G20: =SUM(G21:G27) -> 0 | H20: =SUM(H21:H27) -> #DIV/0!
C21: 1 | D21: =Dashboard!D16 -> Other | E21: =Dashboard!G16 -> 0 | F21: =Dashboard!I16 -> #DIV/0! | G21: =Dashboard!L16 -> 0 | H21: =Dashboard!N16 -> #DIV/0!
C22: 0 | D22: =Dashboard!D17 -> 0 | E22: =Dashboard!G17 | F22: =Dashboard!I17 | G22: =Dashboard!L17 | H22: =Dashboard!J17
C23: 0 | D23: =Dashboard!D18 -> 0 | E23: =Dashboard!G18 | F23: =Dashboard!I18 | G23: =Dashboard!L18 | H23: =Dashboard!J18
C24: 0 | D24: =Dashboard!D19 -> 0 | E24: =Dashboard!G19 | F24: =Dashboard!I19 | G24: =Dashboard!L19 | H24: =Dashboard!J19
C25: 0 | D25: =Dashboard!D20 -> 0 | E25: =Dashboard!G20 | F25: =Dashboard!I20 | G25: =Dashboard!L20 | H25: =Dashboard!J20
C26: 0 | D26: =Dashboard!D21 -> 0 | E26: =Dashboard!G21 | F26: =Dashboard!I21 | G26: =Dashboard!L21 | H26: =Dashboard!J21
C27: 0 | D27: =Dashboard!D22 -> 0 | E27: =Dashboard!G22 | F27: =Dashboard!I22 | G27: =Dashboard!L22 | H27: =Dashboard!J22
D28: B. Economy-wide cost (indirect and induced) | E28: =SUM(E29:E31) -> 0 | F28: =SUM(F29:F31) -> 0 | G28: =SUM(G29:G31) -> 0 | H28: =SUM(H29:H31) -> 0
D29: Agriculture | F29: =IF(GDPLocalCurrency="","",E29/GDPLocalCurrency) | H29: =IF(GDPLocalCurrency="","",G29/GDPLocalCurrency)
D30: Industry | F30: =IF(GDPLocalCurrency="","",E30/GDPLocalCurrency) | H30: =IF(GDPLocalCurrency="","",G30/GDPLocalCurrency)
D31: Services | F31: =IF(GDPLocalCurrency="","",E31/GDPLocalCurrency) | H31: =IF(GDPLocalCurrency="","",G31/GDPLocalCurrency)
D32: C. Total cost (direct + economy-wide) | E32: =SUM(E9,E28) -> 0 | F32: =SUM(F9,F28) -> #DIV/0! | G32: =SUM(G9,G28) -> 0 | H32: =SUM(H9,H28) -> #DIV/0!
D33: Costs by alternative classification
D34: Cost to Girls | E34: =E14 -> 0 | F34: =F14 -> #DIV/0! | G34: =G14 -> 0 | H34: =H14 -> #DIV/0!
D35: Cost to Adult Female | E35: =E9-E14 -> 0 | F35: =F9-F14 -> #DIV/0! | G35: =G9-G14 -> 0 | H35: =H9-H14 -> #DIV/0!
